BEGIN:VCALENDAR
VERSION:2.0
PRODID:-//Library Market//iCal Export//EN
BEGIN:VEVENT
SUMMARY:Tie-dye Totes
UID:6037
DTSTAMP:20260422T101800Z
DTSTART:20260713T230000Z
DTEND:20260714T000000Z
LOCATION:950 S Warrior Ln, Waukee, IA 50263, United States
ROOM: Coal Mine Meeting Room
DESCRIPTION:Transform a plain canvas tote into a stylish expression of you
 r personal style that also holds all your summer reading books! This techn
 ique uses sharpie markers and isopropyl alcohol to achieve a simulated tie
 -dye effect— with less mess. For students entering grades 6-12. Regist
 ration is required.  
URL:https://waukee.librarycalendar.com/event/tie-dye-totes-6037
END:VEVENT
END:VCALENDAR
